BEGIN:VCALENDAR
VERSION:2.0
PRODID:-//Southern California Plumeria Society - ECPv6.15.17//NONSGML v1.0//EN
CALSCALE:GREGORIAN
METHOD:PUBLISH
X-ORIGINAL-URL:https://southerncaliforniaplumeriasociety.com
X-WR-CALDESC:Events for Southern California Plumeria Society
REFRESH-INTERVAL;VALUE=DURATION:PT1H
X-Robots-Tag:noindex
X-PUBLISHED-TTL:PT1H
BEGIN:VTIMEZONE
TZID:America/Los_Angeles
BEGIN:DAYLIGHT
TZOFFSETFROM:-0800
TZOFFSETTO:-0700
TZNAME:PDT
DTSTART:20240310T100000
END:DAYLIGHT
BEGIN:STANDARD
TZOFFSETFROM:-0700
TZOFFSETTO:-0800
TZNAME:PST
DTSTART:20241103T090000
END:STANDARD
BEGIN:DAYLIGHT
TZOFFSETFROM:-0800
TZOFFSETTO:-0700
TZNAME:PDT
DTSTART:20250309T100000
END:DAYLIGHT
BEGIN:STANDARD
TZOFFSETFROM:-0700
TZOFFSETTO:-0800
TZNAME:PST
DTSTART:20251102T090000
END:STANDARD
BEGIN:DAYLIGHT
TZOFFSETFROM:-0800
TZOFFSETTO:-0700
TZNAME:PDT
DTSTART:20260308T100000
END:DAYLIGHT
BEGIN:STANDARD
TZOFFSETFROM:-0700
TZOFFSETTO:-0800
TZNAME:PST
DTSTART:20261101T090000
END:STANDARD
END:VTIMEZONE
BEGIN:VEVENT
DTSTART;TZID=America/Los_Angeles:20250216T130000
DTEND;TZID=America/Los_Angeles:20250216T150000
DTSTAMP:20260424T143815
CREATED:20240809T172424Z
LAST-MODIFIED:20250213T185346Z
UID:4459-1739710800-1739718000@southerncaliforniaplumeriasociety.com
SUMMARY:February 16\, 2025 Meeting - "Wake Up San Diego Plumeria" and "Ask Me Anything... Plumeria"
DESCRIPTION:Are you ready to get prepared for the Plumeria growing season?  Be sure to come to the February meeting on Sunday\, February 16 as we’ll have Dawn-Michelle Atallian\, Irene Jones and Steve Salley on hand to review how to “Wake Up San Diego Plumeria‘ for the upcoming growing season just before answering all of your questions during an “Ask Me Anything… Plumeria” panel.  The February 2025 meeting will be at Jean Farb Middle School (4880 La Cuenta Drive\, San Diego\, CA  92124).
URL:https://southerncaliforniaplumeriasociety.com/event/february-16-2025-meeting/
LOCATION:Jean Farb Middle School\, 4880 La Cuenta Drive\, San Diego\, CA\, 92124\, United States
END:VEVENT
END:VCALENDAR