BEGIN:VCALENDAR
VERSION:2.0
PRODID:-//Southern California Plumeria Society - ECPv6.15.17//NONSGML v1.0//EN
CALSCALE:GREGORIAN
METHOD:PUBLISH
X-WR-CALNAME:Southern California Plumeria Society
X-ORIGINAL-URL:https://southerncaliforniaplumeriasociety.com
X-WR-CALDESC:Events for Southern California Plumeria Society
REFRESH-INTERVAL;VALUE=DURATION:PT1H
X-Robots-Tag:noindex
X-PUBLISHED-TTL:PT1H
BEGIN:VTIMEZONE
TZID:America/Los_Angeles
BEGIN:DAYLIGHT
TZOFFSETFROM:-0800
TZOFFSETTO:-0700
TZNAME:PDT
DTSTART:20230312T100000
END:DAYLIGHT
BEGIN:STANDARD
TZOFFSETFROM:-0700
TZOFFSETTO:-0800
TZNAME:PST
DTSTART:20231105T090000
END:STANDARD
BEGIN:DAYLIGHT
TZOFFSETFROM:-0800
TZOFFSETTO:-0700
TZNAME:PDT
DTSTART:20240310T100000
END:DAYLIGHT
BEGIN:STANDARD
TZOFFSETFROM:-0700
TZOFFSETTO:-0800
TZNAME:PST
DTSTART:20241103T090000
END:STANDARD
BEGIN:DAYLIGHT
TZOFFSETFROM:-0800
TZOFFSETTO:-0700
TZNAME:PDT
DTSTART:20250309T100000
END:DAYLIGHT
BEGIN:STANDARD
TZOFFSETFROM:-0700
TZOFFSETTO:-0800
TZNAME:PST
DTSTART:20251102T090000
END:STANDARD
END:VTIMEZONE
BEGIN:VEVENT
DTSTART;TZID=America/Los_Angeles:20240310T130000
DTEND;TZID=America/Los_Angeles:20240310T150000
DTSTAMP:20260424T052746
CREATED:20231129T030329Z
LAST-MODIFIED:20240307T090037Z
UID:4248-1710075600-1710082800@southerncaliforniaplumeriasociety.com
SUMMARY:March 10\, 2024 - "An Update on Maui Recovery Efforts"
DESCRIPTION:This month we will have Duane Sparkman\, Founder and President of Treecovery Hawaii\, as our March speaker via Zoom\, and he will presenting “An Update on Maui Recovery Efforts“. \n \n  \n  \n  \n  \n  \n  \nDon’t forget to set your clocks forward!  Daylight Savings Time begins at 2am on March 10\, 2024.
URL:https://southerncaliforniaplumeriasociety.com/event/march-10-2024-meeting/
LOCATION:Jean Farb Middle School\, 4880 La Cuenta Drive\, San Diego\, CA\, 92124\, United States
END:VEVENT
END:VCALENDAR