BEGIN:VCALENDAR
VERSION:2.0
PRODID:-//Southern California Plumeria Society - ECPv6.15.17//NONSGML v1.0//EN
CALSCALE:GREGORIAN
METHOD:PUBLISH
X-WR-CALNAME:Southern California Plumeria Society
X-ORIGINAL-URL:https://southerncaliforniaplumeriasociety.com
X-WR-CALDESC:Events for Southern California Plumeria Society
REFRESH-INTERVAL;VALUE=DURATION:PT1H
X-Robots-Tag:noindex
X-PUBLISHED-TTL:PT1H
BEGIN:VTIMEZONE
TZID:America/Los_Angeles
BEGIN:DAYLIGHT
TZOFFSETFROM:-0800
TZOFFSETTO:-0700
TZNAME:PDT
DTSTART:20180311T100000
END:DAYLIGHT
BEGIN:STANDARD
TZOFFSETFROM:-0700
TZOFFSETTO:-0800
TZNAME:PST
DTSTART:20181104T090000
END:STANDARD
BEGIN:DAYLIGHT
TZOFFSETFROM:-0800
TZOFFSETTO:-0700
TZNAME:PDT
DTSTART:20190310T100000
END:DAYLIGHT
BEGIN:STANDARD
TZOFFSETFROM:-0700
TZOFFSETTO:-0800
TZNAME:PST
DTSTART:20191103T090000
END:STANDARD
BEGIN:DAYLIGHT
TZOFFSETFROM:-0800
TZOFFSETTO:-0700
TZNAME:PDT
DTSTART:20200308T100000
END:DAYLIGHT
BEGIN:STANDARD
TZOFFSETFROM:-0700
TZOFFSETTO:-0800
TZNAME:PST
DTSTART:20201101T090000
END:STANDARD
END:VTIMEZONE
BEGIN:VEVENT
DTSTART;TZID=America/Los_Angeles:20190921T080000
DTEND;TZID=America/Los_Angeles:20190922T170000
DTSTAMP:20260424T074312
CREATED:20190223T224542Z
LAST-MODIFIED:20190720T224035Z
UID:2126-1569052800-1569171600@southerncaliforniaplumeriasociety.com
SUMMARY:Pacific Islander Festival
DESCRIPTION:This year is the 25th anniversary of the Pacific Islander Festival Association (PIFA)! \nThis tremendously popular Festival features 2 days of entertainment\, food and Pacific Islander themed gifts. \nLook for our information booth…we’ll be the friendly folks passing out free plumeria blooms! \nAbout PIFA: \nPIFA is a volunteer based organization made up of members who live in the San Diego community.  We welcome people of all cultures and all areas who have a drive to help preserve the Pacific Islander cultures of the indigenous people of Melanesia\, Micronesia and Polynesia through our annual festival and scholarship programs.
URL:https://southerncaliforniaplumeriasociety.com/event/pacific-islander-festival/
LOCATION:Ski Beach\, Vacation Isle\, San Diego\, CA\, 92109\, United States
CATEGORIES:Outreach events
ATTACH;FMTTYPE=image/png:https://southerncaliforniaplumeriasociety.com/wp-content/uploads/2019/02/pifa2019.png
END:VEVENT
END:VCALENDAR