BEGIN:VCALENDAR
VERSION:2.0
PRODID:-//Southern California Plumeria Society - ECPv6.15.17//NONSGML v1.0//EN
CALSCALE:GREGORIAN
METHOD:PUBLISH
X-ORIGINAL-URL:https://southerncaliforniaplumeriasociety.com
X-WR-CALDESC:Events for Southern California Plumeria Society
REFRESH-INTERVAL;VALUE=DURATION:PT1H
X-Robots-Tag:noindex
X-PUBLISHED-TTL:PT1H
BEGIN:VTIMEZONE
TZID:America/Los_Angeles
BEGIN:DAYLIGHT
TZOFFSETFROM:-0800
TZOFFSETTO:-0700
TZNAME:PDT
DTSTART:20230312T100000
END:DAYLIGHT
BEGIN:STANDARD
TZOFFSETFROM:-0700
TZOFFSETTO:-0800
TZNAME:PST
DTSTART:20231105T090000
END:STANDARD
BEGIN:DAYLIGHT
TZOFFSETFROM:-0800
TZOFFSETTO:-0700
TZNAME:PDT
DTSTART:20240310T100000
END:DAYLIGHT
BEGIN:STANDARD
TZOFFSETFROM:-0700
TZOFFSETTO:-0800
TZNAME:PST
DTSTART:20241103T090000
END:STANDARD
BEGIN:DAYLIGHT
TZOFFSETFROM:-0800
TZOFFSETTO:-0700
TZNAME:PDT
DTSTART:20250309T100000
END:DAYLIGHT
BEGIN:STANDARD
TZOFFSETFROM:-0700
TZOFFSETTO:-0800
TZNAME:PST
DTSTART:20251102T090000
END:STANDARD
END:VTIMEZONE
BEGIN:VEVENT
DTSTART;TZID=America/Los_Angeles:20240414T130000
DTEND;TZID=America/Los_Angeles:20240414T150000
DTSTAMP:20260424T072059
CREATED:20231129T030409Z
LAST-MODIFIED:20240411T064706Z
UID:4250-1713099600-1713106800@southerncaliforniaplumeriasociety.com
SUMMARY:April 14\, 2024 - "The ABC's of Plumeria Cuttings"
DESCRIPTION:  \n  \n  \n  \n  \n  \nThe April 2024 meeting will be Sunday\, April 14 at 1:00 pm PDT.  This meeting will be held at 4880 La Cuenta Dr\, San Diego\, CA 92124. This month we will have Jeff Sharp and Dawn-Michelle Atallian presenting on “The ABCs of Plumeria Cuttings“.
URL:https://southerncaliforniaplumeriasociety.com/event/april-14-2024-meeting/
LOCATION:Jean Farb Middle School\, 4880 La Cuenta Drive\, San Diego\, CA\, 92124\, United States
END:VEVENT
END:VCALENDAR